BEGIN:VCALENDAR
VERSION:2.0
PRODID:-//Tauchclub Krokodil Nieder-Olm - ECPv6.15.20//NONSGML v1.0//EN
CALSCALE:GREGORIAN
METHOD:PUBLISH
X-WR-CALNAME:Tauchclub Krokodil Nieder-Olm
X-ORIGINAL-URL:https://tauchclub-krokodil.de
X-WR-CALDESC:Veranstaltungen für Tauchclub Krokodil Nieder-Olm
REFRESH-INTERVAL;VALUE=DURATION:PT1H
X-Robots-Tag:noindex
X-PUBLISHED-TTL:PT1H
BEGIN:VTIMEZONE
TZID:Europe/Berlin
BEGIN:DAYLIGHT
TZOFFSETFROM:+0100
TZOFFSETTO:+0200
TZNAME:CEST
DTSTART:20250330T010000
END:DAYLIGHT
BEGIN:STANDARD
TZOFFSETFROM:+0200
TZOFFSETTO:+0100
TZNAME:CET
DTSTART:20251026T010000
END:STANDARD
BEGIN:DAYLIGHT
TZOFFSETFROM:+0100
TZOFFSETTO:+0200
TZNAME:CEST
DTSTART:20260329T010000
END:DAYLIGHT
BEGIN:STANDARD
TZOFFSETFROM:+0200
TZOFFSETTO:+0100
TZNAME:CET
DTSTART:20261025T010000
END:STANDARD
BEGIN:DAYLIGHT
TZOFFSETFROM:+0100
TZOFFSETTO:+0200
TZNAME:CEST
DTSTART:20270328T010000
END:DAYLIGHT
BEGIN:STANDARD
TZOFFSETFROM:+0200
TZOFFSETTO:+0100
TZNAME:CET
DTSTART:20271031T010000
END:STANDARD
END:VTIMEZONE
BEGIN:VEVENT
DTSTART;TZID=Europe/Berlin:20260425T070000
DTEND;TZID=Europe/Berlin:20260425T090000
DTSTAMP:20260422T104752
CREATED:20240409T090726Z
LAST-MODIFIED:20260119T090238Z
UID:1433-1777100400-1777107600@tauchclub-krokodil.de
SUMMARY:Schwimmbadtraining
DESCRIPTION:Weitere Infos unter Unsere Trainingszeiten
URL:https://tauchclub-krokodil.de/veranstaltungen/schwimmbadtraining-66/
LOCATION:Rheinhessen-Bad\, Pariser Str. 165\, Nieder-Olm\, Rheinland-Pfalz\, 55268\, Deutschland
CATEGORIES:Schwimmtraining
ATTACH;FMTTYPE=image/jpeg:https://tauchclub-krokodil.de/wp-content/uploads/2023/03/20221008_071839-1-scaled.jpg
END:VEVENT
BEGIN:VEVENT
DTSTART;TZID=Europe/Berlin:20260425T090000
DTEND;TZID=Europe/Berlin:20260425T120000
DTSTAMP:20260422T104752
CREATED:20260119T083549Z
LAST-MODIFIED:20260119T083550Z
UID:1802-1777107600-1777118400@tauchclub-krokodil.de
SUMMARY:Frühjahrsputztag TCK-Gelände/Vereinsheim
DESCRIPTION:
URL:https://tauchclub-krokodil.de/veranstaltungen/fruehjahrsputztag-tck-gelaende-vereinsheim/
LOCATION:TCK-Vereinsheim\, Pariser Str. 165\, Nieder-Olm\, Rheinland-Pfalz\, 55268\, Deutschland
ATTACH;FMTTYPE=image/jpeg:https://tauchclub-krokodil.de/wp-content/uploads/2023/03/20220625_074154-scaled.jpg
END:VEVENT
BEGIN:VEVENT
DTSTART;VALUE=DATE:20260426
DTEND;VALUE=DATE:20260427
DTSTAMP:20260422T104752
CREATED:20260119T083906Z
LAST-MODIFIED:20260119T083907Z
UID:1804-1777161600-1777247999@tauchclub-krokodil.de
SUMMARY:Antauchen Nasstaucher
DESCRIPTION:Ort/ Uhrzeit folgt noch
URL:https://tauchclub-krokodil.de/veranstaltungen/antauchen-nasstaucher-3/
ATTACH;FMTTYPE=image/jpeg:https://tauchclub-krokodil.de/wp-content/uploads/2025/05/20250427_115009-scaled.jpg
END:VEVENT
END:VCALENDAR